BEGIN:VCALENDAR
VERSION:2.0
PRODID:-//Eutonie Conscience du Corps//NONSGML kigkonsult.se iCalcreator 2.41.92//
CALSCALE:GREGORIAN
METHOD:PUBLISH
UID:36373938-3334-4136-a666-356132623665
X-WR-CALNAME:iCagenda
X-WR-CALDESC:Event Management Extension for Joomla!
X-WR-RELCALID:3E26604A-50F4-4449-8B3E-E4F4932D05B5
X-WR-TIMEZONE:UTC
BEGIN:VTIMEZONE
TZID:UTC
END:VTIMEZONE
BEGIN:VEVENT
UID:63373130-6461-4663-a665-396166393764
DTSTAMP:20260425T105511Z
CATEGORIES:COURS ET ATELIERS REGULIERS
CLASS:PUBLIC
DESCRIPTION;ALTREP="CID:<FFFF__=0ABBE548DFE235B58f9e8a93d@coffeebean.com>":
 \nCours hebdomadaires d'Eutonie - Bordeaux - Caudéran\n&nbsp\;\nle vendred
 i de 9h00 à 10h00 - Familiarisation à la conscience corporelle\nLieu : &nb
 sp\;&nbsp\; CL2V - Centre de loisirs des deux villes\, 11 rue Erik Satie 3
 3200&nbsp\; Bordeaux Caudéran\nPossibilité de suivre en complément le cour
 s suivant&nbsp\; de 10h15 à 11h45\nRenseignements et inscriptions :&nbsp\;
  Christine Kirman\n{loadmoduleid 132}
DTSTART:20250124T000000Z
DTEND:20250124T235900Z
GEO:00;0
LOCATION:CL2V - Centre de Loisirs des 2 Villes\, 11 rue Erik Satie 33200  B
 ordeaux Caudéran
ORGANIZER;CN=:mailto:chriseutonie@orange.fr
SEQUENCE:1
SUMMARY:Les vendredis de 9h00 à 10h00 à Bordeaux-Cauderan
TRANSP:OPAQUE
URL:https://www.eutonie-conscienceducorps.com/index.php/component/icagenda/
 181-les-vendredis-de-9h00-a-10h00-a-bordeaux-cauderan-5/2025-01-24-00-00
END:VEVENT
END:VCALENDAR
