BEGIN:VCALENDAR
VERSION:2.0
PRODID:-//Eutonie Conscience du Corps//NONSGML kigkonsult.se iCalcreator 2.41.92//
CALSCALE:GREGORIAN
METHOD:PUBLISH
UID:61306239-3566-4231-b336-383264643936
X-WR-CALNAME:iCagenda
X-WR-CALDESC:Event Management Extension for Joomla!
X-WR-RELCALID:3E26604A-50F4-4449-8B3E-E4F4932D05B5
X-WR-TIMEZONE:UTC
BEGIN:VTIMEZONE
TZID:UTC
END:VTIMEZONE
BEGIN:VEVENT
UID:31363439-3731-4865-b631-653236666366
DTSTAMP:20260421T044330Z
CATEGORIES:STAGE
CLASS:PUBLIC
DESCRIPTION;ALTREP="CID:<FFFF__=0ABBE548DFE235B58f9e8a93d@coffeebean.com>":
 Association Eutonie Val de Loire - Tours\nEutonie Val de Loire s'est créée
  en janvier 2006 dans le but de promouvoir l'Eutonie en région Centre\, et
  de faciliter matériellement les stages\, week-ends. L’association propose
 &nbsp\;:\nun stage d'Eutonie Gerda Alexander pendant trois jours\nVendredi
  11 avril au dimanche 13 avril 2025 - Stage d'Eutonie Gerda AlexanderStage
  non résidentiel de 3 jours animé par Jeany Didouan\nHoraires indicatifs 
 :\n- samedi de 10h à 17h30\n- dimanche de 9h30 à 17h\n- lundi de 9h30 à 16
 h30\n- pause déjeuner d'une durée d'environ 1h30 à 2h\nLes horaires peuven
 t varier en fonction du déroulement des séances\, ou de contraintes partic
 ulières\n&nbsp\;\nLieu : salle des Ateliers du Champ Girault – 11 rue Flem
 ing – 37000 Tours\n&nbsp\;\nRenseignements et inscriptions :\nAssociation 
 Eutonie Val-de-Loire\nEmail : Assocaition Eutonie Val de Loire\nSophie Gib
 ert&nbsp\;-&nbsp\;téléphone : 02 47 37 04 67\nPierre-Louis Schmitt&nbsp\;-
  téléphone : 02 47 51 99 42\nJeany&nbsp\;Didouan&nbsp\;- téléphone : 06 80
  38 50 14\nEmail : Jeany Didouan \nLien : http://www.atelierschampgirault.
 fr\n{loadmoduleid 130}
DTSTART:20250411T100000Z
DTEND:20250413T160000Z
GEO:00;0
LOCATION:salle des Ateliers du Champ Girault –10 rue Fleming – 37000 Tours
ORGANIZER;CN=:mailto:jeany.didouan@wanadoo.fr
SEQUENCE:1
SUMMARY:11 au 13 avril 2025 -Stage Eutonie Gerda Alexander de 3 jours à Tou
 rs
TRANSP:OPAQUE
URL:https://www.eutonie-conscienceducorps.com/index.php/component/icagenda/
 180-11-au-13-avril-2025-stage-eutonie-gerda-alexander-de-3-jours-a-tours
END:VEVENT
END:VCALENDAR
