BEGIN:VCALENDAR
VERSION:2.0
PRODID:-//Eutonie Conscience du Corps//NONSGML kigkonsult.se iCalcreator 2.41.92//
CALSCALE:GREGORIAN
METHOD:PUBLISH
UID:61343137-3033-4239-b638-323935396232
X-WR-CALNAME:iCagenda
X-WR-CALDESC:Event Management Extension for Joomla!
X-WR-RELCALID:3E26604A-50F4-4449-8B3E-E4F4932D05B5
X-WR-TIMEZONE:UTC
BEGIN:VTIMEZONE
TZID:UTC
END:VTIMEZONE
BEGIN:VEVENT
UID:31663238-3239-4461-b734-653839636261
DTSTAMP:20260420T223846Z
CATEGORIES:STAGE
CLASS:PUBLIC
DESCRIPTION;ALTREP="CID:<FFFF__=0ABBE548DFE235B58f9e8a93d@coffeebean.com>":
 \nStage d'Eutonie et Kototama à Puybarban (33)\n\nDates : 10 et 11 juin 20
 23\nHoraires: le samedi de 14h à 18h et le dimanche de 10h à 15h\nLieu : 1
 4 Lapierre Sud 33190 Puybarban\n\nRenseignements et inscriptions&nbsp\; :
 \n{loadmoduleid 133}\n&nbsp\;\n\n&nbsp\;
DTSTART:20230610T140000Z
DTEND:20230611T150000Z
GEO:00;0
LOCATION:14 Lapierre sud 33190 Puybarban
ORGANIZER:
SEQUENCE:1
SUMMARY:10 et 11 juin 2023 -  Week-end Eutonie et Kototama à Puybarban
TRANSP:OPAQUE
URL:https://www.eutonie-conscienceducorps.com/index.php/component/icagenda/
 139-10-et-11-juin-2023-week-end-eutonie-et-kototama-a-puybarban
END:VEVENT
END:VCALENDAR
